BEGIN:VCALENDAR
VERSION:2.0
PRODID:-//eventon.com NONSGML v1.0//EN
BEGIN:VEVENT
UID:69e6005678bd1
DTSTAMP:20260420T103046
DTSTART:20231120T183000Z
DTEND:20231120T210000Z
LOCATION:Arendt House 41 Avenue J-F Kennedy
SUMMARY:2023 General Assembly and EWP Awards
DESCRIPTION: We are excited to extend an official invitation to the 2023 General Assembly of the Luxembourg-Poland Chamber of Commerce. This extraordinary event is scheduled to take place on&nbsp;Monday\,  20th November 2023\,  starting at 6:30 pm\,  at the prestigious Arendt House\,  located at 41\,  Avenue J-F Kennedy\,  L-2082\,  Luxembourg. What sets[..]
END:VEVENT
END:VCALENDAR