BEGIN:VCALENDAR
VERSION:2.0
PRODID:-//eventon.com NONSGML v1.0//EN
BEGIN:VEVENT
UID:69eba21f73191
DTSTAMP:20260424T170223
DTSTART:20230223T183000Z
DTEND:20230223T213000Z
LOCATION:Melusina 145 Rue de la Tour Jacob
SUMMARY:Delano turns 12 | Partner's Anniversary Party
DESCRIPTION: The big Delano parties are back. These festive after-work events bring together many English-speaking expats and Luxembourgers to celebrate the main English-speaking media in Luxembourg. REGISTER HERE DATE: 23 February 2023 TIME: 18:30 - 21:30 PLACE: Melusina&nbsp;145 Rue de la Tour Jacob 1831 Luxembourg &nbsp; Dealno celebrates in style in[..]
END:VEVENT
END:VCALENDAR