BEGIN:VCALENDAR
VERSION:2.0
PRODID:-//eventon.com NONSGML v1.0//EN
BEGIN:VEVENT
UID:69eb9ff0aa822
DTSTAMP:20260424T165304
DTSTART:20221011T000000Z
DTEND:20221011T133000Z
LOCATION:Hotel Parc Belair 111\,  Avenue du X Septembre\,  L-2551 Luxembourg
SUMMARY:Polish Speaking Leaders
DESCRIPTION: This event is dedicated to persons holding leading positions within the Luxembourgish business community. The aim is to create a network among them. Our special guest will be the ambassador of the Republic of Poland to the Grand Duchy of Luxembourg\,  His Excellency Piotr Wojtczak.
END:VEVENT
END:VCALENDAR