BEGIN:VCALENDAR
VERSION:2.0
PRODID:-//eventon.com NONSGML v1.0//EN
BEGIN:VEVENT
UID:69eba1c48518b
DTSTAMP:20260424T170052
DTSTART:20220907T183000Z
DTEND:20220907T191500Z
LOCATION:
SUMMARY:LPCC meetup: Entrepreneurial Woman Project (EWP) orientation meeting
DESCRIPTION: Register for the meeting → &nbsp; &nbsp;
END:VEVENT
END:VCALENDAR