BEGIN:VCALENDAR
VERSION:2.0
PRODID:-//eventon.com NONSGML v1.0//EN
BEGIN:VEVENT
UID:69eba24e76ea2
DTSTAMP:20260424T170310
DTSTART:20220924T090000Z
DTEND:20221105T170000Z
LOCATION:
SUMMARY:9th edition of the Entrepreneurial Woman Project
DESCRIPTION: Full information on the program on our dedicated webpage →
END:VEVENT
END:VCALENDAR