BEGIN:VCALENDAR
VERSION:2.0
PRODID:-//eventon.com NONSGML v1.0//EN
BEGIN:VEVENT
UID:69eba147ed4af
DTSTAMP:20260424T165847
DTSTART:20210907T183000Z
DTEND:20210907T193000Z
LOCATION:to be confirmed 
SUMMARY:LPCC Meetup: EWP Orientation Meeting
DESCRIPTION: Save the date: Tuesday\,  7 September 2021. The&nbsp;LPCC&nbsp;invites you to our SEPTEMBER MEETUP ONLINE\,  fully dedicated to the&nbsp;8th edition of the Entrepreneurial Woman Project. Find out in detail what this programme is about\,  who it is aimed at and what benefits it will bring you. During this LIVE EVENT\,  you[..]
END:VEVENT
END:VCALENDAR