BEGIN:VCALENDAR
VERSION:2.0
PRODID:-//eventon.com NONSGML v1.0//EN
BEGIN:VEVENT
UID:69eba0d856b8d
DTSTAMP:20260424T165656
DTSTART:20210913T090000Z
DTEND:20210917T170000Z
LOCATION:
SUMMARY:Digital ICT Week
DESCRIPTION: The Luxembourg Chamber of Commerce and its Enterprise Europe Network\,  in collaboration with Farvest\,  will organise the 2nd Digital ICT Week from 13th September to 17th September. The event will be hybrid and will encourage an array of highlight events such as the ICT Spring\,  tech tours\,  virtual company visits\,  international business meetings by b2fair[..]
END:VEVENT
END:VCALENDAR