BEGIN:VCALENDAR
VERSION:2.0
PRODID:-//eventon.com NONSGML v1.0//EN
BEGIN:VEVENT
UID:69e6000c12cf0
DTSTAMP:20260420T102932
DTSTART:20211115T183000Z
DTEND:20211115T210000Z
LOCATION:
SUMMARY:General Assembly and Entrepreneurial Woman Awards
DESCRIPTION: We are glad to announce that this year we will hold our annual General Assembly and Entrepreneurial Woman Project&nbsp;Awards on Monday\,  15 November 2021 at Arendt House in Kirchberg. Due to pandemic-imposed restrictions\,  we will have to restrict our guest number to 40 people. The now-standard Luxembourgish&nbsp;CovidCheck system&nbsp;will be enforced.[..]
END:VEVENT
END:VCALENDAR