BEGIN:VCALENDAR
VERSION:2.0
PRODID:-//eventon.com NONSGML v1.0//EN
BEGIN:VEVENT
UID:69eb9f085e54d
DTSTAMP:20260424T164912
DTSTART:20210617T040000Z
DTEND:20210617T053000Z
LOCATION:
SUMMARY:LPCC § LPEA Polish Private Equity market
DESCRIPTION: We are&nbsp;pleased to invite you to attend the&nbsp;“Luxembourg as a European Hub for Polish VSs” webinar. This online event is organised in partnership with the&nbsp;PSIK\,  the Polish Private Equity and Venture Capital Association and&nbsp;LPEA - Luxembourg Private Equity & Venture Capital Association. The webinar via Zoom taking place on&nbsp;Thursday\,  June[..]
END:VEVENT
END:VCALENDAR