BEGIN:VCALENDAR
VERSION:2.0
PRODID:-//eventon.com NONSGML v1.0//EN
BEGIN:VEVENT
UID:69eba1031d298
DTSTAMP:20260424T165739
DTSTART:20210324T000000Z
DTEND:20210325T235900Z
LOCATION:online 
SUMMARY:Wolves Summit - our Partner Event
DESCRIPTION: Wolves Summit is one of the world’s leading startup conferences and the largest tech event in Central and Eastern Europe. Every edition attracts more than 2500 participants from 80 countries providing 100+ hours of immersive educational content\,  keynotes\,  and startup pitches. The 13th edition\,  March 24-26\,  adds a Virtual first[..]
END:VEVENT
END:VCALENDAR