BEGIN:VCALENDAR
VERSION:2.0
PRODID:-//eventon.com NONSGML v1.0//EN
BEGIN:VEVENT
UID:69eba530a11b2
DTSTAMP:20260424T171528
DTSTART:20210608T183000Z
DTEND:20210608T220000Z
LOCATION:
SUMMARY:Summer Business Party at Polish ambassador's residence (by invitation only) CANCELLED
DESCRIPTION: Every year at the Luxembourg-Poland Chamber of Commerce we inaugurate the warmest season in true business spirit with The Summer Business Party\,  a closed event to which our Corporate Members from Luxembourg and Poland are invited to participate. Participation is by invitation only. The exclusive party\,  which will be held[..]
END:VEVENT
END:VCALENDAR