BEGIN:VCALENDAR
VERSION:2.0
PRODID:-//eventon.com NONSGML v1.0//EN
BEGIN:VEVENT
UID:69e600ae67a02
DTSTAMP:20260420T103214
DTSTART:20211125T180000Z
DTEND:20211125T220000Z
LOCATION:to be confirmed 
SUMMARY:LPCC Meetup
DESCRIPTION: Save the date: Thursday\,  25 November 2021. More information coming soon. Part of our event series LPCC MeetUp &nbsp;
END:VEVENT
END:VCALENDAR