BEGIN:VCALENDAR
VERSION:2.0
PRODID:-//eventon.com NONSGML v1.0//EN
BEGIN:VEVENT
UID:69eba475965ac
DTSTAMP:20260424T171221
DTSTART:20210923T180000Z
DTEND:20210923T220000Z
LOCATION:to be confirmed 
SUMMARY:The Summer Business Party
DESCRIPTION: We are delighted to share the news that a celebration called The Summer Business Party will be held on 23 September\,  a closed event to which our Corporate Members from Luxembourg and Poland are invited to participate. Participation is by invitation only. The exclusive party\,  which will be held at the[..]
END:VEVENT
END:VCALENDAR