BEGIN:VCALENDAR
VERSION:2.0
PRODID:-//eventon.com NONSGML v1.0//EN
BEGIN:VEVENT
UID:69eba035aab5f
DTSTAMP:20260424T165413
DTSTART:20210630T180000Z
DTEND:20210630T220000Z
LOCATION:to be confirmed 
SUMMARY:LPCC Meetup: EWP Orientation Meeting
DESCRIPTION: Save the date: Wednesday\,  30 June 2021. The&nbsp;LPCC&nbsp;invites you to our JUNE&nbsp;MEETUP ONLINE\,  fully dedicated to the&nbsp;8th edition of the Entrepreneurial Woman Project. Find out in detail what this programme is about\,  who it is aimed at and what benefits it will bring you. During this LIVE EVENT\,  you will[..]
END:VEVENT
END:VCALENDAR