BEGIN:VCALENDAR
VERSION:2.0
PRODID:-//eventon.com NONSGML v1.0//EN
BEGIN:VEVENT
UID:69e600954d7cd
DTSTAMP:20260420T103149
DTSTART:20210520T180000Z
DTEND:20210520T220000Z
LOCATION:
SUMMARY:LPCC Meetup
DESCRIPTION: Save the date: Thursday\,  20 May 2021. More information coming soon. Part of our event series LPCC MeetUp &nbsp;
END:VEVENT
END:VCALENDAR