BEGIN:VCALENDAR
VERSION:2.0
PRODID:-//eventon.com NONSGML v1.0//EN
BEGIN:VEVENT
UID:69e6004f47a6c
DTSTAMP:20260420T103039
DTSTART:20201109T000000Z
DTEND:20201109T235900Z
LOCATION:
SUMMARY:GENERAL ASSEMBLY AND ENTREPRENEURIAL WOMAN AWARDS 2020
DESCRIPTION: This year's 7th edition of the EWP project will end on 7 November. Meanwhile\,  on 9th November\,  in the headquarters of our corporate member - ATOZ company\,  there will be a ceremonial awarding of diplomas for all participants of this edition and three main prizes for the finalists of the[..]
END:VEVENT
END:VCALENDAR