BEGIN:VCALENDAR
VERSION:2.0
PRODID:-//eventon.com NONSGML v1.0//EN
BEGIN:VEVENT
UID:69e6001363a3b
DTSTAMP:20260420T102939
DTSTART:20200402T183000Z
DTEND:20200402T220000Z
LOCATION:Foundry 38\,  Rue d'Esch\,  1470
SUMMARY:LPCC Meetup
DESCRIPTION: Save the date: Thursday\,  2 April 2020. We kindly invite you to join the upcomming LPCC Meetup in April. We will organise it with our corporate members\,  the Automobile Club du Luxembourg (ACL). ACL is the oldest  and the biggest association in Luxembourg. They provide an assistance\,  advice\,  benefits and a range of tailored[..]
END:VEVENT
END:VCALENDAR