BEGIN:VCALENDAR
VERSION:2.0
PRODID:-//eventon.com NONSGML v1.0//EN
BEGIN:VEVENT
UID:69e59062e1bcc
DTSTAMP:20260420T023306
DTSTART:20261123T183000Z
DTEND:20261123T220000Z
LOCATION:
SUMMARY:LPCC General Assembly & Entrepreneurial Woman Project Gala 2026
DESCRIPTION: The Luxembourg–Poland Chamber of Commerce (LPCC) is delighted to announce its General Assembly & Entrepreneurial Woman Project (EWP) Gala 2026 – an evening that brings together two of the Chamber’s most meaningful annual events. 📅 Monday\,  23 November 2026 🕔 6:30 p.m. – 10:00 p.m. 📍to be announced soon Please[..]
END:VEVENT
END:VCALENDAR