BEGIN:VCALENDAR
VERSION:2.0
PRODID:-//eventon.com NONSGML v1.0//EN
BEGIN:VEVENT
UID:69e78a96e45fc
DTSTAMP:20260421T143254
DTSTART:20251022T000000Z
DTEND:20251022T235900Z
LOCATION:Luxembourg Chamber of Commerce 7\,  rue Alcide de Gasperi
SUMMARY:7th Luxembourg-Poland Business Conference
DESCRIPTION: This year’s edition of the conference\,  titled "Luxembourg’s Private Fund Landscape: Explore Luxembourg’s fund toolbox\,  operational best practices and tailored structuring options for Polish fund managers"\,  will take place on Wednesday\,  22 October 2025\,  from 09:00 to 15:45 at the&nbsp;Luxembourg Chamber of Commerce. The 7th edition of the Conference\,  sponsored[..]
END:VEVENT
END:VCALENDAR