BEGIN:VCALENDAR
VERSION:2.0
PRODID:-//eventon.com NONSGML v1.0//EN
BEGIN:VEVENT
UID:69eba03fdc7de
DTSTAMP:20260424T165423
DTSTART:20240522T093000Z
DTEND:20240522T000000Z
LOCATION:Linklaters Warsaw Aleja Jana Pawla II 22
SUMMARY:Luxembourg-Poland Investment Toolbox
DESCRIPTION: Working in partnership with Linklaters\,  the Luxembourg-Poland Chamber of Commerce&nbsp;is delighted to invite you to a session of specialist knowledge and expert analysis. Join us on Wednesday\,  22 May 2024 at 10am to discuss the following topics: Luxembourg-Poland investment synergies: how the financial hub of Luxembourg serves as a gateway[..]
END:VEVENT
END:VCALENDAR