BEGIN:VCALENDAR
VERSION:2.0
PRODID:-//eventon.com NONSGML v1.0//EN
BEGIN:VEVENT
UID:69eb9f8e5bea0
DTSTAMP:20260424T165126
DTSTART:20240328T183000Z
DTEND:20240328T210000Z
LOCATION:Hotel Parc Belair 111\,  Avenue du X Septembre\,  L-2551 Luxembourg
SUMMARY:Navigating the Dynamic Job Markets of Poland and Luxembourg | Presentation & Networking
DESCRIPTION: We regret to inform you that the event scheduled for March 28th\,  2024\,  will be postponed. We apologize for any inconvenience caused and will share the new date for the event shortly. Thank you for your understanding. &nbsp; Revolutionise Your Executive Search Approach Save the date for an exclusive event[..]
END:VEVENT
END:VCALENDAR