BEGIN:VCALENDAR
VERSION:2.0
PRODID:-//eventon.com NONSGML v1.0//EN
BEGIN:VEVENT
UID:69eb9f2f0464d
DTSTAMP:20260424T164951
DTSTART:20231026T183000Z
DTEND:20231026T235000Z
LOCATION:
SUMMARY:Practical Guide to Financing Projects in Poland | Event with Linklaters
DESCRIPTION: Are you interested in expanding your knowledge of financing projects in Poland? Look no further! Linklaters cordially invites you to a special event that offers invaluable insights into launching\,  structuring\,  and executing various projects in Poland. This includes Private Equity\,  Real Estate\,  Energy\,  and Infrastructure sectors. Join us for an[..]
END:VEVENT
END:VCALENDAR