BEGIN:VCALENDAR
VERSION:2.0
PRODID:-//eventon.com NONSGML v1.0//EN
BEGIN:VEVENT
UID:69e60088bcffc
DTSTAMP:20260420T103136
DTSTART:20230927T180000Z
DTEND:20230927T235000Z
LOCATION:PwC Luxembourg 
SUMMARY:Polish Speaking Finance with PWC Luxembourg
DESCRIPTION: Uniting Finance Professionals in Luxembourg: Save the Date - WEDNESDAY\,  27 SEPTEMBER 2023\,  6 PM We are thrilled to announce that after the holidays\,  we will be hosting another remarkable event from our renowned "Polish speaking..." series. This time\,  in collaboration with our esteemed corporate member\,  PwC Luxembourg\,  we proudly[..]
END:VEVENT
END:VCALENDAR